BEGIN:VCALENDAR
VERSION:2.0
PRODID:-//League of Women Voters of East Nassau - ECPv6.15.20//NONSGML v1.0//EN
CALSCALE:GREGORIAN
METHOD:PUBLISH
X-WR-CALNAME:League of Women Voters of East Nassau
X-ORIGINAL-URL:https://lwveastnassau.org
X-WR-CALDESC:Events for League of Women Voters of East Nassau
REFRESH-INTERVAL;VALUE=DURATION:PT1H
X-Robots-Tag:noindex
X-PUBLISHED-TTL:PT1H
BEGIN:VTIMEZONE
TZID:America/New_York
BEGIN:DAYLIGHT
TZOFFSETFROM:-0500
TZOFFSETTO:-0400
TZNAME:EDT
DTSTART:20250309T070000
END:DAYLIGHT
BEGIN:STANDARD
TZOFFSETFROM:-0400
TZOFFSETTO:-0500
TZNAME:EST
DTSTART:20251102T060000
END:STANDARD
BEGIN:DAYLIGHT
TZOFFSETFROM:-0500
TZOFFSETTO:-0400
TZNAME:EDT
DTSTART:20260308T070000
END:DAYLIGHT
BEGIN:STANDARD
TZOFFSETFROM:-0400
TZOFFSETTO:-0500
TZNAME:EST
DTSTART:20261101T060000
END:STANDARD
BEGIN:DAYLIGHT
TZOFFSETFROM:-0500
TZOFFSETTO:-0400
TZNAME:EDT
DTSTART:20270314T070000
END:DAYLIGHT
BEGIN:STANDARD
TZOFFSETFROM:-0400
TZOFFSETTO:-0500
TZNAME:EST
DTSTART:20271107T060000
END:STANDARD
END:VTIMEZONE
BEGIN:VEVENT
DTSTART;TZID=America/New_York:20260218T133000
DTEND;TZID=America/New_York:20260218T153000
DTSTAMP:20260424T120253
CREATED:20251210T235419Z
LAST-MODIFIED:20251228T202052Z
UID:20187-1771421400-1771428600@lwveastnassau.org
SUMMARY:"The First Ladies" Book Discussion
DESCRIPTION:“The First Ladies” by Marie Benedict \nThis discussion will take place at the Levittown Public Library on February 18\, 2026\, in rooms 1 & 2.
URL:https://lwveastnassau.org/upcomingevent/the-first-ladies-book-discussion/
CATEGORIES:East Nassau
END:VEVENT
END:VCALENDAR