BEGIN:VCALENDAR
VERSION:2.0
PRODID:-//League of Women Voters of East Nassau - ECPv6.15.20//NONSGML v1.0//EN
CALSCALE:GREGORIAN
METHOD:PUBLISH
X-ORIGINAL-URL:https://lwveastnassau.org
X-WR-CALDESC:Events for League of Women Voters of East Nassau
REFRESH-INTERVAL;VALUE=DURATION:PT1H
X-Robots-Tag:noindex
X-PUBLISHED-TTL:PT1H
BEGIN:VTIMEZONE
TZID:America/New_York
BEGIN:DAYLIGHT
TZOFFSETFROM:-0500
TZOFFSETTO:-0400
TZNAME:EDT
DTSTART:20250309T070000
END:DAYLIGHT
BEGIN:STANDARD
TZOFFSETFROM:-0400
TZOFFSETTO:-0500
TZNAME:EST
DTSTART:20251102T060000
END:STANDARD
BEGIN:DAYLIGHT
TZOFFSETFROM:-0500
TZOFFSETTO:-0400
TZNAME:EDT
DTSTART:20260308T070000
END:DAYLIGHT
BEGIN:STANDARD
TZOFFSETFROM:-0400
TZOFFSETTO:-0500
TZNAME:EST
DTSTART:20261101T060000
END:STANDARD
BEGIN:DAYLIGHT
TZOFFSETFROM:-0500
TZOFFSETTO:-0400
TZNAME:EDT
DTSTART:20270314T070000
END:DAYLIGHT
BEGIN:STANDARD
TZOFFSETFROM:-0400
TZOFFSETTO:-0500
TZNAME:EST
DTSTART:20271107T060000
END:STANDARD
END:VTIMEZONE
BEGIN:VEVENT
DTSTART;TZID=America/New_York:20260520T190000
DTEND;TZID=America/New_York:20260520T203000
DTSTAMP:20260424T104122
CREATED:20251211T001654Z
LAST-MODIFIED:20251228T194546Z
UID:20194-1779303600-1779309000@lwveastnassau.org
SUMMARY:The Constitution and Check and Balances (tentative topic)
DESCRIPTION:A speaker from the Nassau County Bar Association will speak about the Constitution and checks and balances (tentative topic) at the Levittown Public Library in rooms 1 & 2.
URL:https://lwveastnassau.org/upcomingevent/the-constitution-and-check-and-balances-tentative-topic/
CATEGORIES:East Nassau,General Meeting
END:VEVENT
END:VCALENDAR