BEGIN:VCALENDAR
VERSION:2.0
PRODID:-//League of Women Voters of East Nassau - ECPv6.15.20//NONSGML v1.0//EN
CALSCALE:GREGORIAN
METHOD:PUBLISH
X-ORIGINAL-URL:https://lwveastnassau.org
X-WR-CALDESC:Events for League of Women Voters of East Nassau
REFRESH-INTERVAL;VALUE=DURATION:PT1H
X-Robots-Tag:noindex
X-PUBLISHED-TTL:PT1H
BEGIN:VTIMEZONE
TZID:America/New_York
BEGIN:DAYLIGHT
TZOFFSETFROM:-0500
TZOFFSETTO:-0400
TZNAME:EDT
DTSTART:20250309T070000
END:DAYLIGHT
BEGIN:STANDARD
TZOFFSETFROM:-0400
TZOFFSETTO:-0500
TZNAME:EST
DTSTART:20251102T060000
END:STANDARD
BEGIN:DAYLIGHT
TZOFFSETFROM:-0500
TZOFFSETTO:-0400
TZNAME:EDT
DTSTART:20260308T070000
END:DAYLIGHT
BEGIN:STANDARD
TZOFFSETFROM:-0400
TZOFFSETTO:-0500
TZNAME:EST
DTSTART:20261101T060000
END:STANDARD
BEGIN:DAYLIGHT
TZOFFSETFROM:-0500
TZOFFSETTO:-0400
TZNAME:EDT
DTSTART:20270314T070000
END:DAYLIGHT
BEGIN:STANDARD
TZOFFSETFROM:-0400
TZOFFSETTO:-0500
TZNAME:EST
DTSTART:20271107T060000
END:STANDARD
END:VTIMEZONE
BEGIN:VEVENT
DTSTART;TZID=America/New_York:20260603T190000
DTEND;TZID=America/New_York:20260603T203000
DTSTAMP:20260425T120043
CREATED:20251215T200329Z
LAST-MODIFIED:20251228T194136Z
UID:20249-1780513200-1780518600@lwveastnassau.org
SUMMARY:June Board Meeting
DESCRIPTION:June board meeting at the Levittown Public Library in the Storytime room. \n  \n 
URL:https://lwveastnassau.org/upcomingevent/june-board-meeting-2/
LOCATION:NY
CATEGORIES:Board Meeting
END:VEVENT
BEGIN:VEVENT
DTSTART;TZID=America/New_York:20260624T123000
DTEND;TZID=America/New_York:20260624T153000
DTSTAMP:20260425T120043
CREATED:20251211T001934Z
LAST-MODIFIED:20251228T193726Z
UID:20196-1782304200-1782315000@lwveastnassau.org
SUMMARY:Annual Meeting
DESCRIPTION:Annual meeting \nLocation to be announced.
URL:https://lwveastnassau.org/upcomingevent/annual-meeting/
LOCATION:NY
CATEGORIES:East Nassau
END:VEVENT
END:VCALENDAR