BEGIN:VCALENDAR
VERSION:2.0
PRODID:-//League of Women Voters of East Nassau - ECPv6.15.20//NONSGML v1.0//EN
CALSCALE:GREGORIAN
METHOD:PUBLISH
X-WR-CALNAME:League of Women Voters of East Nassau
X-ORIGINAL-URL:https://lwveastnassau.org
X-WR-CALDESC:Events for League of Women Voters of East Nassau
REFRESH-INTERVAL;VALUE=DURATION:PT1H
X-Robots-Tag:noindex
X-PUBLISHED-TTL:PT1H
BEGIN:VTIMEZONE
TZID:America/New_York
BEGIN:DAYLIGHT
TZOFFSETFROM:-0500
TZOFFSETTO:-0400
TZNAME:EDT
DTSTART:20250309T070000
END:DAYLIGHT
BEGIN:STANDARD
TZOFFSETFROM:-0400
TZOFFSETTO:-0500
TZNAME:EST
DTSTART:20251102T060000
END:STANDARD
BEGIN:DAYLIGHT
TZOFFSETFROM:-0500
TZOFFSETTO:-0400
TZNAME:EDT
DTSTART:20260308T070000
END:DAYLIGHT
BEGIN:STANDARD
TZOFFSETFROM:-0400
TZOFFSETTO:-0500
TZNAME:EST
DTSTART:20261101T060000
END:STANDARD
BEGIN:DAYLIGHT
TZOFFSETFROM:-0500
TZOFFSETTO:-0400
TZNAME:EDT
DTSTART:20270314T070000
END:DAYLIGHT
BEGIN:STANDARD
TZOFFSETFROM:-0400
TZOFFSETTO:-0500
TZNAME:EST
DTSTART:20271107T060000
END:STANDARD
END:VTIMEZONE
BEGIN:VEVENT
DTSTART;TZID=America/New_York:20260107T130000
DTEND;TZID=America/New_York:20260107T153000
DTSTAMP:20260424T115024
CREATED:20251211T002727Z
LAST-MODIFIED:20251228T215141Z
UID:20198-1767790800-1767799800@lwveastnassau.org
SUMMARY:Board Meeting - January
DESCRIPTION:January board meeting room A at the Levittown Public Library.
URL:https://lwveastnassau.org/upcomingevent/board-meeting-january/
END:VEVENT
BEGIN:VEVENT
DTSTART;TZID=America/New_York:20260121T123000
DTEND;TZID=America/New_York:20260121T150000
DTSTAMP:20260424T115024
CREATED:20251210T234826Z
LAST-MODIFIED:20251210T234826Z
UID:20181-1768998600-1769007600@lwveastnassau.org
SUMMARY:Holiday Luncheon
DESCRIPTION:Holiday party at the Wantagh Inn \n3264 Railroad Avenue\, Wantagh\, NY \n  \n  \nCost $35.00 per person send checks to our treasurer
URL:https://lwveastnassau.org/upcomingevent/holiday-luncheon/
CATEGORIES:East Nassau
END:VEVENT
END:VCALENDAR